BEGIN:VCALENDAR
VERSION:2.0
PRODID:-//Canterbury League Club - ECPv6.15.16.1//NONSGML v1.0//EN
CALSCALE:GREGORIAN
METHOD:PUBLISH
X-ORIGINAL-URL:https://canterbury.com.au
X-WR-CALDESC:Events for Canterbury League Club
REFRESH-INTERVAL;VALUE=DURATION:PT1H
X-Robots-Tag:noindex
X-PUBLISHED-TTL:PT1H
BEGIN:VTIMEZONE
TZID:Australia/Sydney
BEGIN:STANDARD
TZOFFSETFROM:+1100
TZOFFSETTO:+1000
TZNAME:AEST
DTSTART:20250405T160000
END:STANDARD
BEGIN:DAYLIGHT
TZOFFSETFROM:+1000
TZOFFSETTO:+1100
TZNAME:AEDT
DTSTART:20251004T160000
END:DAYLIGHT
BEGIN:STANDARD
TZOFFSETFROM:+1100
TZOFFSETTO:+1000
TZNAME:AEST
DTSTART:20260404T160000
END:STANDARD
BEGIN:DAYLIGHT
TZOFFSETFROM:+1000
TZOFFSETTO:+1100
TZNAME:AEDT
DTSTART:20261003T160000
END:DAYLIGHT
BEGIN:STANDARD
TZOFFSETFROM:+1100
TZOFFSETTO:+1000
TZNAME:AEST
DTSTART:20270403T160000
END:STANDARD
BEGIN:DAYLIGHT
TZOFFSETFROM:+1000
TZOFFSETTO:+1100
TZNAME:AEDT
DTSTART:20271002T160000
END:DAYLIGHT
END:VTIMEZONE
BEGIN:VEVENT
DTSTART;VALUE=DATE:20260125
DTEND;VALUE=DATE:20260507
DTSTAMP:20260420T185125
CREATED:20260325T034504Z
LAST-MODIFIED:20260416T110606Z
UID:10014395-1769299200-1778111999@canterbury.com.au
SUMMARY:Win a Geely EX5
DESCRIPTION:Get ready for your chance to drive away in a brand new 2026 Geely EX5 Electric Car! \nThis exciting Major Promotion will run across Canterbury League Club\, The Lakemba Club\, and Moxon Sports Club. \n  \nKey Dates \nPromotion Runs: Monday 30 March – Wednesday 6 May \nEntries Close: 5.30pm\, Wednesday 6 May at all venues \nMajor Draw: 7.30pm\, Wednesday 6 May \nHow to Enter \n\nMembers can earn entries daily by simply swiping their valid Canterbury membership card at any activated swipe terminal within the participating venues.\nEach day\, you can receive up to one (1) entry ticket\, which must be placed into the designated entry barrel at the display location.\n\nThe Prize \nOne lucky member will win a 2026 Geely EX5 Inspire Extended Range\, which will be on display at Canterbury League Club. Valued at $50\,659\, this fully electric vehicle makes it the perfect upgrade to your everyday drive. \nMajor Draw Details \n\nThe Major Draw will take place at Canterbury League Club. The draw will also be broadcast live across The Lakemba Club and Moxon Sports Club\, so you can be part of the excitement no matter where you are.\nAll entries from The Lakemba Club and Moxon Sports Club will be securely transported to Canterbury League Club for the final draw.\n\nDon’t miss your chance to be behind the wheel of this incredible electric vehicle. Swipe daily\, and join us for what promises to be an unforgettable draw night. \nGood luck!
URL:https://canterbury.com.au/event/win-a-geely-ex5/
LOCATION:Showroom\, Australia
CATEGORIES:Home Page,What's on
ATTACH;FMTTYPE=image/jpeg:https://canterbury.com.au/wp-content/uploads/2026/03/Canterbury_WinaGeelyEX5-SQ4-scaled.jpg
ORGANIZER;CN="Canterbury League Club":MAILTO:info@canterbury.com.au
END:VEVENT
BEGIN:VEVENT
DTSTART;TZID=Australia/Sydney:20260424T200000
DTEND;TZID=Australia/Sydney:20260424T223000
DTSTAMP:20260420T185125
CREATED:20251110T233921Z
LAST-MODIFIED:20260416T074806Z
UID:10014316-1777060800-1777069800@canterbury.com.au
SUMMARY:The Australian Bee Gees Show
DESCRIPTION:Fresh from celebrating 15 years and over 4500 shows headlining on the Las Vegas strip\, the Australian Bee Gees Show will be heading Down Under for the Australian leg of their 30th anniversary tour! \nThis new show will be presented in two parts and feature all of the hits in a nostalgic trip down memory lane in a multimedia concert event. \nThe Australian Bee Gees Show is currently performing at The Excalibur Hotel and Casino and has been in residence for the past 15 years and have just signed a new 5-year contract that will keep the ABGShow headlining in Las Vegas until 2030. The group has racked up over 4500 performances on the Las Vegas Strip and was recently voted Best Tribute Show in Las Vegas by the prestigious Las Vegas Review Journal and has made the top 10 in the ‘Overall Best Show’ category\, an amazing achievement in Las Vegas. \nThe Australian Bee Gees show was also the first Australian band to perform 1000 shows headlining on the Famous Las Vegas Strip and with 4500 shows already under their belt in Las Vegas alone they are looking forward to continued success in Sin City. \nAfter 30 years on the world stage and over 8\,000 performances in over 60 countries\, The Australian Bee Gees Show has evolved to become the definitive best live music events in Sydney this weekend of the wonderful music written by the Brothers Gibb. \nFrom their first shows in 1996\, The Australian Bee Gees Show has conquered Las Vegas and has played to capacity houses around the world\, cementing their reputation as an exceptional live concert in Belmore Sydney and the world’s leading Bee Gees Show. \nFor one night only be a part of the magic that is\, The Australian Bee Gees Show. \nwww.abgshow.com \n#vegasbeegees \n“There you have The Australian Bee Gees Show\, very talented\, nice\, funny guys who just happen to look and sound a lot like three extraordinarily talented brothers whom we love. In my opinion they are the best Bee Gees tribute in the world!”-TERRI BRIDGE\, PRESIDENT OF THE BEE GEES OFFICIAL FAN CLUB\, USA. \n“Showgoers at one of this band’s shows get a lot more than a few disco songs\, The Australian Bee Gees Show capture the very essence of the original Bee Gees” – NINA KING\, LAS VEGAS MAGAZINE \n“This Bee Gees Tribute sustains the ‘Fever’.” – MIKE WEATHERFORD\, LAS VEGAS REVIEW JOURNAL \n“Tribute bands are now a recognised ingredient of the entertainment scene but new arrival\, The Australian Bee Gees Show is a cut above the rest.” – NATALIE ANGLESEY – THE STAGE\, UK \n“Their voices blended perfectly as the band hit high and low notes with perfect precision\, mesmerising die-hard Bee Gees fans with their superb talent.” – MARSHA MOKOOL – THE TRINIDAD GUARDIAN\, TRINIDAD \n“The resemblance is unbelievable\, The Australian Bee Gees Show not only look like the Bee Gees\, they also have the voices of the legendary Brothers Gibb.” – WOLFBURGER GENERAL NEWSPAPER\, WOLFSBURG\, GERMANY. \nEvent is 18+\nTickets $45\nDoors 7:30pm | Show 8pm\nDancefloor Open
URL:https://canterbury.com.au/event/the-australian-bee-gees-show/
LOCATION:Showroom\, Australia
CATEGORIES:Home Page,Showroom,Ticketed Shows,What's on
ATTACH;FMTTYPE=image/jpeg:https://canterbury.com.au/wp-content/uploads/2025/11/Canterbury-BeeGee30-1080x1080px-Social-Square.jpg
ORGANIZER;CN="Canterbury League Club":MAILTO:info@canterbury.com.au
END:VEVENT
BEGIN:VEVENT
DTSTART;TZID=Australia/Sydney:20260502T200000
DTEND;TZID=Australia/Sydney:20260502T223000
DTSTAMP:20260420T185125
CREATED:20260213T000534Z
LAST-MODIFIED:20260416T075853Z
UID:10014368-1777752000-1777761000@canterbury.com.au
SUMMARY:Born Jovi
DESCRIPTION:BORN JOVI– A tribute to Bon Jovi\, only Bon Jovi does it better.  \nExperience Born Jovi live in Sydney at Canterbury League Club\, delivering the ultimate Bon Jovi tribute show. Enjoy a high-energy night of iconic rock hits and unforgettable live entertainment. Book your tickets now for one of the best live music events in Sydney. \nBorn Jovi recreate the energy and chemistry of the real thing from back in the day. Whether you’re a Bon Jovi fan or simply out for a great night\, this show is not to be missed! Experience the energy & passion of a true Bon Jovi production\, led by vocalist and avid Bon Jovi fan\, Bret Watts. \nThe show is packed with classic hits like Bad Name\, Living On A Prayer\, Wanted\, Bad Medicine\, Keep The Faith and It’s My Life\, as well as the unforgettable soulful ballads Always\, Blaze Of Glory & Bed Of Roses. \nGet your tickets now ad don’t miss out “It’s now or never\, we ain’t gonna live forever” \nHome \n \n  \nEvent is 18+\nTickets $20\nDancefloor Open\nDoors 7:30pm | Show 8pm
URL:https://canterbury.com.au/event/born-jovi/
LOCATION:Showroom\, Australia
CATEGORIES:Showroom,Ticketed Shows,What's on
ATTACH;FMTTYPE=image/jpeg:https://canterbury.com.au/wp-content/uploads/2026/02/BJ_2026-May-SQ.jpg
ORGANIZER;CN="Canterbury League Club":MAILTO:info@canterbury.com.au
END:VEVENT
BEGIN:VEVENT
DTSTART;TZID=Australia/Sydney:20260509T200000
DTEND;TZID=Australia/Sydney:20260509T223000
DTSTAMP:20260420T185125
CREATED:20260213T000959Z
LAST-MODIFIED:20260416T101329Z
UID:10014369-1778356800-1778365800@canterbury.com.au
SUMMARY:The Vallies
DESCRIPTION:The Vallies are the ACE (Australian Club Entertainment) Award winning ‘Performers of the Year’! . They have also taken out ‘Best Tribute Show’. \nPerforming the hits of Frankie Valli and the Four Seasons\, the sounds of Motown\, Memphis\, Rock ’n’ Roll and the Bee Gees; this all singing\, all dancing show is not to be missed! \nThe all Australian cast features performers from the original Australian productions of Wicked as well as Jersey Boys\, Priscilla – Queen of the Desert\, Catch Me If You Can and a winner of Young Talent Time. \nInvited to perform at prestigious venues all across Australian and as well as on some of the best cruise liners including regular engagements on the Queen Elizabeth\, Mary II\, Victoria and Anne. The Vallies is an energetic show with tight harmonies and choreography that’s not to be missed! \nTickets $30\nEvent is 18+\nDoors 7:30pm | Show 8pm \nhttps://canterbury.com.au/wp-content/uploads/2026/02/Vallies-SHOWREEL-MASTER-2018-HD-720p.mp4
URL:https://canterbury.com.au/event/the-vallies/
LOCATION:Showroom\, Australia
CATEGORIES:Showroom,Ticketed Shows,What's on
ATTACH;FMTTYPE=image/jpeg:https://canterbury.com.au/wp-content/uploads/2026/02/Vallies_2026-May-SQ.jpg
ORGANIZER;CN="Canterbury League Club":MAILTO:info@canterbury.com.au
END:VEVENT
BEGIN:VEVENT
DTSTART;TZID=Australia/Sydney:20260515T200000
DTEND;TZID=Australia/Sydney:20260515T223000
DTSTAMP:20260420T185125
CREATED:20260304T060838Z
LAST-MODIFIED:20260416T102522Z
UID:10014379-1778875200-1778884200@canterbury.com.au
SUMMARY:Never Ending 80s Presents: 80s vs 70s - Glow vs Fro
DESCRIPTION:The Never Ending 80s Presents: 80s vs 70s – Glow Vs Fro – Celebrating 10 incredible years of non-stop parties\, the Never Ending 80s Band are hitting the road for their biggest tour yet – and this time\, it’s the ultimate showdown: the Battle of the Decades – 70s vs 80s!  Which side will you be on? \nThis high-energy live spectacular pits two iconic eras head-to-head in a song-for-song battle packed with the biggest hits that defined a generation. Will the disco queens of the 70s—like ABBA’s Dancing Queen or Gloria Gaynor’s I Will Survive—take the crown? Or will the 80s strike back with anthems like Whitney Houston’s I Wanna Dance With Somebody or Madonna’s Like a Virgin?  And when it comes to music royalty\, will the smooth grooves of 70s Stevie Wonder outshine the electric pop power of 80s Prince? Will rock lovers cheer louder for 70s classics like Fleetwood Mac\, or will 80s giants like Bon Jovi take the win? This is the ultimate test of which decade truly rules — and YOU decide the champion. \nWith the Never Ending 80s leading the charge\, this 10th Anniversary Tour promises an unforgettable night of electric energy\, sing-along anthems\, glitter-soaked nostalgia\, and dance floor magic. \nSo pull out your 70s glamour\, your 80s neon\, or both — and get ready to celebrate a decade of Never Ending 80s with the hottest hits of two legendary eras.   \nDon’t miss the battle as Never Ending 80s Presents: 80s vs 70s –  Glow Vs Fro\, it’s going to be one for the ages! \nEvent is 18+\nDancefloor Open\nTickets $40\nDoors 7:30pm | Show 8pm
URL:https://canterbury.com.au/event/never-ending-80s-presents-80s-vs-70s-glow-vs-fro/
LOCATION:Showroom\, Australia
CATEGORIES:Showroom,Ticketed Shows,What's on
ATTACH;FMTTYPE=image/jpeg:https://canterbury.com.au/wp-content/uploads/2026/03/NE80s_2026-May-SQ-scaled.jpg
ORGANIZER;CN="Canterbury League Club":MAILTO:info@canterbury.com.au
END:VEVENT
BEGIN:VEVENT
DTSTART;TZID=Australia/Sydney:20260530T200000
DTEND;TZID=Australia/Sydney:20260530T223000
DTSTAMP:20260420T185125
CREATED:20260304T062446Z
LAST-MODIFIED:20260416T103148Z
UID:10014380-1780171200-1780180200@canterbury.com.au
SUMMARY:The Ultimate Tina Show
DESCRIPTION:Experience The Ultimate Tina Show live in Sydney at Canterbury League Club\, celebrating the legendary hits of Tina Turner. Enjoy a high-energy night of music\, dance\, and electrifying performances. Book your tickets now for one of the best tribute shows in Sydney. \nThrough a combination of vocal performances\, high-energy dance routines\, and a band that replicates Tina Turner’s signature sound\, “Ultimate Tina” takes audiences on a journey through Tina Turner’s iconic music. The show features renditions of her greatest hits\, such as “Proud Mary\,” “What’s Love Got to Do with It\,” “Simply the Best\,” and many more. \n“Ultimate Tina” is not only a musical journey but also a celebration of the indomitable spirit of Tina Turner herself\, capturing the magic that made her a true rock ‘n’ roll legend. \nOverall\, “Ultimate Tina” is a high-energy and entertaining performance that keeps Tina Turner’s legacy alive by bringing her music and spirit to the stage for both dedicated fans and new generations to enjoy. \nEvent is 18+\nDancefloor Open\nTickets $25 \nUltimate Tina_Showreel_2.40min \n 
URL:https://canterbury.com.au/event/the-ultimate-tina-show/
LOCATION:Showroom\, Australia
CATEGORIES:Showroom,Ticketed Shows,What's on
ATTACH;FMTTYPE=image/jpeg:https://canterbury.com.au/wp-content/uploads/2026/03/Ultimate-Tina_2026-May-SQ-scaled.jpg
ORGANIZER;CN="Canterbury League Club":MAILTO:info@canterbury.com.au
END:VEVENT
BEGIN:VEVENT
DTSTART;TZID=Australia/Sydney:20260613T200000
DTEND;TZID=Australia/Sydney:20260613T235900
DTSTAMP:20260420T185125
CREATED:20240704T002505Z
LAST-MODIFIED:20260306T060705Z
UID:10014081-1781380800-1781395140@canterbury.com.au
SUMMARY:Lasers with DJ Sam Boutros and special guest DJ Nick Skitz
DESCRIPTION:Join for best DJ night in Sydney with DJ Sam Boutros & special guest DJs at the showroom at Canterbury League Club as they take you back to the old school with ‘LASERS’ a night of throwback hits from the 80s\, 90s & 00s. Dance the night away to Old School RnB\, Funk and Disco Hits that’ll have you grooving and moving\, taking you back to the best years of your life with laser & music night in Belmore NSW Sydney.  \nDJ Sam Boutros has amassed a loyal following of music lovers\, having hosted sold out dance nights all over Sydney since the early 80s.  This night will be no exception so book your tickets now and bring your dancing shoes! \nSpecial guest DJ – Nick Skitz \nEvent is 18+ \nTickets $25
URL:https://canterbury.com.au/event/lasers-with-dj-sam-boutros-sydney/
LOCATION:Showroom\, Australia
CATEGORIES:Showroom,Ticketed Shows,What's on
ATTACH;FMTTYPE=image/jpeg:https://canterbury.com.au/wp-content/uploads/2024/07/LaserNS_2026-June-SQ.jpg
ORGANIZER;CN="Canterbury League Club":MAILTO:info@canterbury.com.au
END:VEVENT
END:VCALENDAR